BEGIN:VCALENDAR
VERSION:2.0
PRODID:-//ChamberMaster//Event Calendar 2.0//EN
METHOD:PUBLISH
X-PUBLISHED-TTL:P3D
REFRESH-INTERVAL:P3D
CALSCALE:GREGORIAN
BEGIN:VEVENT
DTSTART:20140927T203000Z
DTEND:20140928T000000Z
X-MICROSOFT-CDO-ALLDAYEVENT:FALSE
SUMMARY:Cincinnati Walks for Kids
DESCRIPTION:Cincinnati Walks for Kids is a scenic half-mile walk to raise money to support Cincinnati Children's Hospital Medical Center and to celebrate Cincinnati Children's patients and families.
X-ALT-DESC;FMTTYPE=text/html:<span style="font-size:12px\;"><span style="font-family: verdana\;"><span style="color: rgb(105\, 105\, 105)\;">Cincinnati Walks for Kids is a scenic half-mile walk to raise money to support Cincinnati Children&#39\;s Hospital Medical Center and to celebrate Cincinnati Children&#39\;s patients and families.</span></span></span>
LOCATION:Cincinati Zoo & Botanical Garden 3400 Vine Street Cincinnati\, OH 45220
UID:e.818.1003
SEQUENCE:3
DTSTAMP:20260422T055621Z
URL:http://business.hccusa.us/events/details/cincinnati-walks-for-kids-09-27-2014-1003
END:VEVENT

END:VCALENDAR
