BEGIN:VCALENDAR
VERSION:2.0
PRODID:-//ChamberMaster//Event Calendar 2.0//EN
METHOD:PUBLISH
X-PUBLISHED-TTL:P3D
REFRESH-INTERVAL:P3D
CALSCALE:GREGORIAN
BEGIN:VEVENT
DTSTART:20260507T123000Z
DTEND:20260507T190000Z
X-MICROSOFT-CDO-ALLDAYEVENT:FALSE
SUMMARY:DirectConnect 2026
DESCRIPTION:Cincinnati Children's partners with organizations across our community and around the globe to build healthy and vital economies in the places where we live and work. This includes collaborating with a wide variety of suppliers that reflect the markets we serve.   \n\n\n\nOur annual DirectConnect event provides a forum for small\, local and underrepresented businesses to connect with others while also hearing perspectives and ideas from leaders on ways they can set themselves up for success. \n\n\n\nThis year's program will provide a valuable forum to exchange insights\, connect with local leaders\, vendors\, and explore new partnership opportunities. Additional event details are included on the DirectConnect website or on the attached flier.\n\n\n\nWho Should Attend: \n\n\n\n	Suppliers interested in making connections in healthcare \n	Health system leaders  \n	Professionals focused on improving their community and building partnerships \n\n\nAgenda
X-ALT-DESC;FMTTYPE=text/html:<div>\n<div>\n<p>Cincinnati Children&rsquo\;s partners with organizations across our community and around the globe to build healthy and vital economies in the places where we live and work. This includes collaborating with a wide variety of suppliers that reflect the markets we serve.&nbsp\;&nbsp\;&nbsp\;</p>\n</div>\n\n<div>\n<p>Our annual&nbsp\;DirectConnect event provides a forum for small\, local and&nbsp\;underrepresented&nbsp\;businesses to connect with others while also hearing perspectives and ideas from leaders on ways they can set themselves up for success.&nbsp\;<br />\n<br />\nThis year&rsquo\;s program will provide a valuable forum to exchange insights\, connect with local leaders\, vendors\, and explore new partnership opportunities. Additional event details are included on the&nbsp\;<a data-auth="NotApplicable" data-linkindex="0" href="https://healthcollab.org/directconnect/" rel="noopener noreferrer" target="_blank" title="https://healthcollab.org/directconnect/">DirectConnect website</a>&nbsp\;or on the attached flier.</p>\n</div>\n\n<div>\n<p>Who Should Attend:&nbsp\;</p>\n</div>\n\n<ul>\n	<li>Suppliers&nbsp\;interested in&nbsp\;making connections in healthcare&nbsp\;</li>\n	<li>Health system leaders&nbsp\;&nbsp\;</li>\n	<li>Professionals focused on improving&nbsp\;their&nbsp\;community and building partnerships&nbsp\;</li>\n</ul>\n</div>\n<a href="https://thehealthcollaborative12.regfox.com/directconnect-2026">Agenda</a>
LOCATION:Cincinnati Children's Sabin Auditorium 3333 Burnet Avenue\, Cincinnati\, OH 45229
UID:e.818.22154
SEQUENCE:3
DTSTAMP:20260421T082857Z
URL:http://business.hccusa.us/events/details/directconnect-2026-22154
END:VEVENT

END:VCALENDAR
