BEGIN:VCALENDAR
VERSION:2.0
PRODID:-//ChamberMaster//Event Calendar 2.0//EN
METHOD:PUBLISH
X-PUBLISHED-TTL:P3D
REFRESH-INTERVAL:P3D
CALSCALE:GREGORIAN
BEGIN:VEVENT
DTSTART:20101028T190000Z
DTEND:20101028T210000Z
X-MICROSOFT-CDO-ALLDAYEVENT:FALSE
SUMMARY:Doing Business with Panamá
DESCRIPTION:Come and Learn What Top Opportunities (Products / Services)\n\n	US Department of Commerce and Panamanian Government are Promoting\n\n	Also\, Hear from a Exclusive Panel of Local Business Executives with Experience in this Promising Country\n\n	"Doing Business with Panam "\n\n	Hosted by Frost Brown Todd at\n\n	2200 PNC Center\n\n	201 East Fifth Street\n\n	  Cincinnati\, OH 45202-4182\n\n	\n\n	\n\n	 \n\n	  Program limited to the first 30 registered participants\n\n	R.S.V.P by October 23\, 2010\n\n	To register\, call Kathy Strunk   513.651-6166 or kstrunk@fbtlaw.com\n\n	Special thanks to Frost Brown Todd for their support in making this event possible.
X-ALT-DESC;FMTTYPE=text/html:<p style="text-align: center">\n	<span style="font-size: 14px"><b><font face="TimesNewRomanPS-BoldMT">Come and Learn What Top Opportunities (Products / Services)<br />\n	US Department of </font></b></span><span style="font-size: 14px"><b><font face="TimesNewRomanPS-BoldMT">Commerce and Panamanian Government are Promoting</font></b></span></p>\n<p align="left">\n	<font face="TimesNewRomanPSMT">Also\, Hear from a Exclusive Panel of Local Business Executives with </font><font face="TimesNewRomanPSMT">Experience in this Promising Country</font></p>\n<p style="text-align: center">\n	<b><font face="TimesNewRomanPS-BoldMT" size="6"><font face="TimesNewRomanPS-BoldMT" size="6">&ldquo\;Doing Business with Panam&aacute\;&rdquo\;</font></font></b></p>\n<p style="text-align: center">\n	<font face="TimesNewRomanPSMT">Hosted by </font><font face="TimesNewRomanPSMT">Frost Brown Todd at</font></p>\n<p style="text-align: center">\n	<font face="TimesNewRomanPSMT">2200 PNC Center</font><br />\n	<font face="TimesNewRomanPSMT">201 East Fifth Street</font><br />\n	<font face="TimesNewRomanPSMT"><span _fck_bookmark="1" style="display: none">&nbsp\;</span><span _fck_bookmark="1" style="display: none">&nbsp\;</span>Cincinnati\, OH 45202-4182</font><br />\n	<br />\n	<br />\n	&nbsp\;</p>\n<p style="text-align: center">\n	<font face="TimesNewRomanPSMT"><font face="TimesNewRomanPSMT"><span _fck_bookmark="1" style="display: none">&nbsp\;</span><span style="font-size: 12px"><span _fck_bookmark="1" style="display: none">&nbsp\;</span><span style="font-size: 14px">Program limited to the first 30 registered participants</span></span></font></font></p>\n<p style="text-align: center">\n	<font face="TimesNewRomanPSMT"><b><font face="TimesNewRomanPS-BoldMT"><span style="font-size: 12px"><span style="font-size: 14px">R.S.V.P by October 23\, 2010</span></span></font></b></font></p>\n<p style="text-align: center">\n	<font face="TimesNewRomanPSMT"><font face="TimesNewRomanPSMT"><span style="font-size: 12px"><span style="font-size: 14px">To register\, call Kathy Strunk &ndash\; 513.651-6166 or kstrunk@fbtlaw.com</span></span></font></font></p>\n<p style="text-align: center">\n	<font face="TimesNewRomanPSMT"><font face="TimesNewRomanPSMT"><span style="font-size: 12px"><span style="font-size: 14px">Special thanks to </span></span></font><b><font face="TimesNewRomanPS-BoldMT"><span style="font-size: 12px"><span style="font-size: 14px">Frost Brown Todd </span></span></font></b><font face="TimesNewRomanPSMT"><span style="font-size: 12px"><span style="font-size: 14px">for their support in making this event possible.</span><span _fck_bookmark="1" style="display: none">&nbsp\;</span></span></font></font></p>\n<p style="text-align: center">\n	<font face="TimesNewRomanPSMT"><font face="TimesNewRomanPSMT"><span _fck_bookmark="1" style="display: none">&nbsp\;</span></font><br />\n	<span _fck_bookmark="1" style="display: none">&nbsp\;</span><span _fck_bookmark="1" style="display: none">&nbsp\;</span><span _fck_bookmark="1" style="display: none">&nbsp\;</span><span _fck_bookmark="1" style="display: none">&nbsp\;</span></font></p>\n
LOCATION:Hosted by Frost Brown Todd at 2200 PNC Center 201 East Fifth Street Cincinnati\, OH 45202-4182
UID:e.818.148
SEQUENCE:3
DTSTAMP:20260421T082056Z
URL:http://business.hccusa.us/events/details/doing-business-with-panam&#225;-10-28-2010-148
END:VEVENT

END:VCALENDAR
