BEGIN:VCALENDAR
VERSION:2.0
PRODID:-//ChamberMaster//Event Calendar 2.0//EN
METHOD:PUBLISH
X-PUBLISHED-TTL:P3D
REFRESH-INTERVAL:P3D
CALSCALE:GREGORIAN
BEGIN:VEVENT
DTSTART:20260219T230000Z
DTEND:20260220T010000Z
X-MICROSOFT-CDO-ALLDAYEVENT:FALSE
SUMMARY:Empowered Connections: Celebrating Excellence
DESCRIPTION:Join us this Black History Month to learn how collaboration and community partnerships support business growth across Greater Dayton.\n\n\n\n\n\nIn honor of Black History Month\, we're bringing together entrepreneurs\, community leaders\, and support organizations to explore how collaboration drives business growth and economic impact. Business owners will gain practical insights\, learn about local small business resources\, and connect with peers working to build stronger businesses and communities.\n\nThrough a dynamic panel\, fireside chats\, and interactive breakout sessions\, attendees will hear real-world experiences\, access guidance on capital and technical assistance\, and leave with actionable strategies and expanded networks to support long-term success.\n\nWhat You'll Learn & Experience\n\n\n	How collaboration across communities can drive business growth\n	Real-world insights from local business leaders\n	Information on business resources available through the Hispanic Chamber and ECDI\n	Practical guidance on accessing capital\, technical assistance\, and growth support\n	Opportunities to connect and collaborate during interactive breakout sessions\n\n\nAll are welcome to this event celebrating excellence in our Greater Dayton community!
X-ALT-DESC;FMTTYPE=text/html:<div data-testid="text-content">\n<div>\n<p>Join us this Black History Month to learn how collaboration and community partnerships support business growth across Greater Dayton.</p>\n</div>\n</div>\n\n<div data-testid="text-content">\n<div>\n<p>In honor of Black History Month\, we&#39\;re bringing together entrepreneurs\, community leaders\, and support organizations to explore how collaboration drives business growth and economic impact. Business owners will gain practical insights\, learn about local small business resources\, and connect with peers working to build stronger businesses and communities.</p>\n\n<p>Through a dynamic panel\, fireside chats\, and interactive breakout sessions\, attendees will hear real-world experiences\, access guidance on capital and technical assistance\, and leave with actionable strategies and expanded networks to support long-term success.</p>\n\n<p>What You&rsquo\;ll Learn &amp\; Experience</p>\n\n<ul>\n	<li>How collaboration across communities can drive business growth</li>\n	<li>Real-world insights from local business leaders</li>\n	<li>Information on business resources available through the Hispanic Chamber and ECDI</li>\n	<li>Practical guidance on accessing capital\, technical assistance\, and growth support</li>\n	<li>Opportunities to connect and collaborate during interactive breakout sessions</li>\n</ul>\n\n<p>All are welcome to this event celebrating excellence in our Greater Dayton community!</p>\n</div>\n</div>\n
LOCATION:The Reserve On Third 452 East 3rd Street Dayton\, OH 45402
UID:e.818.22059
SEQUENCE:3
DTSTAMP:20260425T231215Z
URL:http://business.hccusa.us/events/details/empowered-connections-celebrating-excellence-22059
END:VEVENT

END:VCALENDAR
