BEGIN:VCALENDAR
VERSION:2.0
PRODID:-//ChamberMaster//Event Calendar 2.0//EN
METHOD:PUBLISH
X-PUBLISHED-TTL:P3D
REFRESH-INTERVAL:P3D
CALSCALE:GREGORIAN
BEGIN:VEVENT
DTSTART:20110311T233000Z
DTEND:20110312T013000Z
X-MICROSOFT-CDO-ALLDAYEVENT:FALSE
SUMMARY:Have You Heard ? It's Peru!
DESCRIPTION:Have You Heard ?\n\n	It's Peru!\n\n	Come Share Information & Ideas \n\n	For \n\n	Middfest International's\n\n	PeruCelebration\n\n	 \n\n	Friday\, March 11  6:30 p.m. \n\n	\n\n	 \n\n	For almost 30 years Middfest International has featured countries from around the world.  In 2011 our honored country is Peru.  At the meeting there will be a brief overview of Middfest\, but most of the time will be devoted to hearing your ideas and learning about Peru from you.  We need your input as we prepare to present this extraordinary country.  We promise a fast paced productive session that will end on time.  We truly believe that the most important reason for Middfest International's past success is the commitment to include those from the country in our planning process\, non-natives who have lived in the country\, and others who have significant connections.  For Peru\, this criteria fits YOU!  You are not obligated by attending to do more than share ideas and information.  If\, however\, you would like to be involved beyond the meeting\, we will welcome your help.  If you cannot come\, but want to be a part of the process\, please let us know.  A response that you plan to attend will be appreciated but not required (call 513-425-7707 or send e-mail to middfest@siscom.net).  \n\n	 \n\n	Jane Fisher\, International Alliance Chair                                \n\n	Middfest International                                                                     \n\n	Carmen Ullmer\, Contact Person\n\n	   Peru Community\n\n	Virginia Ritan\, Executive Director\n\n	Middfest International\n\n	 \n\n	Directions to the Atrium Family YMCA:  \n\n	Take I-75 to Middletown Exit #32 (From Southbound turn LEFT off exit ramp.  From Northbound turn RIGHT).  Follow St. Rt. 122 in Left Lane\, turn LEFT on to Union Road.    Go past the Atrium Medical Center (Watch for the YMCA sign on the Right).  Turn RIGHT on Innovation Drive.   The Atrium Family YMCA is on the Left.
X-ALT-DESC;FMTTYPE=text/html:<p style="text-align: center">\n	<span style="font-size: 24pt"><span style="font-family: times new roman">Have You Heard ?</span></span><br />\n	<span style="font-size: 36pt"><span style="font-family: arial">It&#39\;s Peru!</span></span></p>\n<p style="text-align: center">\n	<span style="font-size: 24pt"><span style="font-family: times new roman">Come Share Information &amp\; Ideas </span></span></p>\n<p style="text-align: center">\n	<span style="font-size: 18pt"><span style="font-family: times new roman">For </span></span></p>\n<p style="text-align: center">\n	<span style="font-size: 18pt"><span style="font-family: times new roman">Middfest International&#39\;s</span></span><br />\n	<span style="font-family: times new roman"><span style="font-size: 18pt">Peru</span></span><span style="font-size: 18pt">Celebration</span><br />\n	&nbsp\;<br />\n	<span style="font-size: 18pt"><span style="font-family: times new roman">Friday\, March 11&nbsp\; 6:30 p.m.&nbsp\;</span></span><br />\n	<br />\n	&nbsp\;</p>\n<p>\n	<span style="font-size: 18pt"><span style="font-family: times new roman"><span style="font-size: medium"><span style="font-family: times new roman">For almost 30 years Middfest International has featured countries from around the world.&nbsp\; In 2011 our honored country is Peru.&nbsp\; At the meeting there will be a brief overview of Middfest\, but most of the time will be devoted to hearing your ideas and learning about Peru from you.&nbsp\; We need your input as we prepare to present this extraordinary country.&nbsp\; We promise a fast paced productive session that will end on time.&nbsp\; We truly believe that the most important reason for Middfest International&#39\;s past success is the commitment to include those from the country in our planning process\, non-natives who have lived in the country\, and others who have significant connections.&nbsp\; For Peru\, this criteria fits YOU!&nbsp\; You are not obligated by attending to do more than share ideas and information.&nbsp\; If\, however\, you would like to be involved beyond the meeting\, we will welcome your help.&nbsp\; If you cannot come\, but want to be a part of the process\, please let us know.&nbsp\; A response that you plan to attend will be appreciated but not required (call 513-425-7707 or send e-mail to middfest@siscom.net).&nbsp\; </span></span><br />\n	&nbsp\;<br />\n	<span style="font-size: medium"><span style="font-family: times new roman">Jane Fisher\, International Alliance Chair&nbsp\;&nbsp\;&nbsp\;&nbsp\;&nbsp\;&nbsp\;&nbsp\;&nbsp\;&nbsp\;&nbsp\;&nbsp\;&nbsp\;&nbsp\;&nbsp\;&nbsp\;&nbsp\;&nbsp\;&nbsp\;&nbsp\;&nbsp\;&nbsp\;&nbsp\;&nbsp\;&nbsp\;&nbsp\;&nbsp\;&nbsp\;&nbsp\;&nbsp\;&nbsp\;&nbsp\; </span></span><br />\n	<span style="font-size: medium"><span style="font-family: times new roman">Middfest International&nbsp\;&nbsp\;&nbsp\;&nbsp\;&nbsp\;&nbsp\;&nbsp\;&nbsp\;&nbsp\;&nbsp\;&nbsp\;&nbsp\;&nbsp\;&nbsp\;&nbsp\;&nbsp\;&nbsp\;&nbsp\;&nbsp\;&nbsp\;&nbsp\;&nbsp\;&nbsp\;&nbsp\;&nbsp\;&nbsp\;&nbsp\;&nbsp\;&nbsp\;&nbsp\;&nbsp\;&nbsp\;&nbsp\;&nbsp\;&nbsp\;&nbsp\;&nbsp\;&nbsp\;&nbsp\;&nbsp\;&nbsp\;&nbsp\;&nbsp\;&nbsp\;&nbsp\;&nbsp\;&nbsp\;&nbsp\;&nbsp\;&nbsp\;&nbsp\;&nbsp\;&nbsp\;&nbsp\;&nbsp\;&nbsp\;&nbsp\;&nbsp\;&nbsp\;&nbsp\;&nbsp\;&nbsp\;&nbsp\;&nbsp\;&nbsp\;&nbsp\;&nbsp\;&nbsp\;&nbsp\;<br />\n	Carmen Ullmer\, Contact Person<br />\n	&nbsp\;&nbsp\; Peru Community</span></span><br />\n	<span style="font-size: medium"><span style="font-family: times new roman">Virginia Ritan\, Executive Director</span></span><br />\n	<span style="font-size: medium"><span style="font-family: times new roman">Middfest International</span></span><br />\n	&nbsp\;<br />\n	<span style="font-size: medium"><span style="font-family: times new roman">Directions to the <span style="font-size: 14pt">Atrium Family YMCA</span></span>:&nbsp\; </span><br />\n	<span style="font-size: medium"><span style="font-family: times new roman">Take I-75 to Middletown Exit #32 (From Southbound turn LEFT off exit ramp.&nbsp\; From Northbound turn RIGHT).&nbsp\; Follow St. Rt. 122 in Left Lane\, turn LEFT on to Union Road.&nbsp\;&nbsp\;&nbsp\; Go past the Atrium Medical Center (Watch for the YMCA sign on the Right).&nbsp\; Turn RIGHT on Innovation Drive.&nbsp\;&nbsp\; The Atrium Family YMCA is on the Left.&nbsp\;&nbsp\;&nbsp\;&nbsp\;&nbsp\;&nbsp\;</span></span></span></span><br />\n	<br />\n	&nbsp\;</p>
LOCATION:Atrium Family YMCA 5750 Innovation Drive Franklin\, Ohio 45005 Off I-75 Middletown Exit 32
UID:e.818.190
SEQUENCE:3
DTSTAMP:20260421T105111Z
URL:http://business.hccusa.us/events/details/have-you-heard-it-s-peru-03-11-2011-190
END:VEVENT

END:VCALENDAR
