BEGIN:VCALENDAR
VERSION:2.0
PRODID:-//ChamberMaster//Event Calendar 2.0//EN
METHOD:PUBLISH
X-PUBLISHED-TTL:P3D
REFRESH-INTERVAL:P3D
CALSCALE:GREGORIAN
BEGIN:VEVENT
DTSTART:20260217T170000Z
DTEND:20260217T183000Z
X-MICROSOFT-CDO-ALLDAYEVENT:FALSE
SUMMARY:How Cultural Learning Can Increase Your Bottom Line
DESCRIPTION:Build stronger customer relationships that lead to more consistent sales and long-term growth.\n\n\n\n\nMany small business owners struggle with inconsistent revenue\, low customer retention\, or marketing that doesn't fully resonate with their audience.\n\nThis workshop helps entrepreneurs close that gap by exploring how deeper customer insight improves communication\, builds trust\, and turns one-time buyers into loyal customers. You'll learn how social\, economic\, and historical factors influence buying behavior and how applying these insights leads to smarter marketing\, stronger relationships\, and increased revenue.\n\nIn this workshop\, you'll learn how to:\n\n\n	Identify what truly drives customer decisions\n	Improve loyalty through smarter messaging\n	Strengthen trust and repeat business\n	Connect customer insight to revenue growth\n\n\nRegister now to better understand your customers and grow your bottom line.
X-ALT-DESC;FMTTYPE=text/html:<div>\n<div>Build stronger customer relationships that lead to more consistent sales and long-term growth.</div>\n</div>\n\n<div>\n<div>\n<p>Many small business owners struggle with inconsistent revenue\, low customer retention\, or marketing that doesn&rsquo\;t fully resonate with their audience.</p>\n\n<p>This workshop helps entrepreneurs close that gap by exploring how deeper customer insight improves communication\, builds trust\, and turns one-time buyers into loyal customers. You&rsquo\;ll learn how social\, economic\, and historical factors influence buying behavior&mdash\;and how applying these insights leads to smarter marketing\, stronger relationships\, and increased revenue.</p>\n\n<p>In this workshop\, you&rsquo\;ll learn how to:</p>\n\n<ul>\n	<li>Identify what truly drives customer decisions</li>\n	<li>Improve loyalty through smarter messaging</li>\n	<li>Strengthen trust and repeat business</li>\n	<li>Connect customer insight to revenue growth</li>\n</ul>\n\n<p>Register now to better understand your customers and grow your bottom line.</p>\n</div>\n</div>\n
LOCATION:Online
UID:e.818.22056
SEQUENCE:3
DTSTAMP:20260425T230643Z
URL:http://business.hccusa.us/events/details/how-cultural-learning-can-increase-your-bottom-line-22056
END:VEVENT

END:VCALENDAR
