BEGIN:VCALENDAR
VERSION:2.0
PRODID:-//ChamberMaster//Event Calendar 2.0//EN
METHOD:PUBLISH
X-PUBLISHED-TTL:P3D
REFRESH-INTERVAL:P3D
CALSCALE:GREGORIAN
BEGIN:VEVENT
DTSTART;VALUE=DATE:20260216
DTEND;VALUE=DATE:20260217
TRANSP:TRANSPARENT
X-MICROSOFT-CDO-ALLDAYEVENT:TRUE
SUMMARY:OMNIMAX® D-Day: Normandy 1944
DESCRIPTION:June 6\, 1944: The largest Allied operation of World War II began in Normandy\, France. Yet\, few know in detail exactly why and how\, from the end of 1943 through August 1944\, this region became the most important location in the world.
X-ALT-DESC;FMTTYPE=text/html:<iframe allow="accelerometer\; autoplay\; clipboard-write\; encrypted-media\; gyroscope\; picture-in-picture\; web-share" allowfullscreen="" frameborder="0" height="315" referrerpolicy="strict-origin-when-cross-origin" src="https://www.youtube.com/embed/Sim0TYHC-gM?si=30FP3arievDNDUnX" title="YouTube video player" width="560"></iframe><br />\n<br />\nJune 6\, 1944: The largest Allied operation of World War II began in Normandy\, France. Yet\, few know in detail exactly why and how\, from the end of 1943 through August 1944\, this region became the most important location in the world.
LOCATION:1301 Western Ave Cincinnati\, OH 45203
UID:e.818.22074
SEQUENCE:3
DTSTAMP:20260425T230601Z
URL:http://business.hccusa.us/events/details/omnimax-d-day-normandy-1944-22074
END:VEVENT

END:VCALENDAR
