BEGIN:VCALENDAR
VERSION:2.0
PRODID:-//ChamberMaster//Event Calendar 2.0//EN
METHOD:PUBLISH
X-PUBLISHED-TTL:P3D
REFRESH-INTERVAL:P3D
CALSCALE:GREGORIAN
BEGIN:VEVENT
DTSTART;VALUE=DATE:20260216
DTEND;VALUE=DATE:20260217
TRANSP:TRANSPARENT
X-MICROSOFT-CDO-ALLDAYEVENT:TRUE
SUMMARY:OMNIMAX® Wild Rescue
DESCRIPTION:Experience the inspiring journey of animals given a second chance at a wild life in this giant screen adventure. Based on the work at the Santa Barbara Wildlife Care Network\, this uplifting film follows the dedicated teams who rescue\, rehabilitate\, and release injured and orphaned wild animals.
X-ALT-DESC;FMTTYPE=text/html:<iframe allow="accelerometer\; autoplay\; clipboard-write\; encrypted-media\; gyroscope\; picture-in-picture\; web-share" allowfullscreen="" frameborder="0" height="315" referrerpolicy="strict-origin-when-cross-origin" src="https://www.youtube.com/embed/trjzK9Kpy1A?si=wckMbr8nbdRFyCE-" title="YouTube video player" width="560"></iframe><br />\n<br />\nExperience the inspiring journey of animals given a second chance at a wild life in this giant screen adventure. Based on the work at the Santa Barbara Wildlife Care Network\, this uplifting film follows the dedicated teams who rescue\, rehabilitate\, and release injured and orphaned wild animals.
LOCATION:1301 Western Ave Cincinnati\, OH 45203
UID:e.818.22100
SEQUENCE:3
DTSTAMP:20260425T230245Z
URL:http://business.hccusa.us/events/details/omnimax-wild-rescue-22100
END:VEVENT

END:VCALENDAR
