BEGIN:VCALENDAR
VERSION:2.0
PRODID:-//ChamberMaster//Event Calendar 2.0//EN
METHOD:PUBLISH
X-PUBLISHED-TTL:P3D
REFRESH-INTERVAL:P3D
CALSCALE:GREGORIAN
BEGIN:VEVENT
DTSTART:20260219T020000Z
DTEND:20260219T033000Z
X-MICROSOFT-CDO-ALLDAYEVENT:FALSE
SUMMARY:Power Breakfast with the WBC
DESCRIPTION:Rooted in Community: Connect with women entrepreneurs over breakfast\, share goals\, and gain fresh motivation to grow your business\n\n\n\n\n\nYour business doesn't grow in isolation. Connect with women entrepreneurs over breakfast and explore how small businesses strengthen and are strengthened by the communities they serve.\n\nThis energizing morning meetup invites you to reflect on your role within your local ecosystem\, discover community resources available to support your business\, and explore opportunities for collaboration that help everyone grow.\n\nEvent Highlights:\n\n\n	Enjoy a light breakfast and coffee while connecting with women business owners rooted in their communities\n	Learn how community partnerships and local resources can support your business goals\n	Share ideas and opportunities for collaboration and collective growth\n	Discover how partnerships with community organizations can connect your business to community-based support\n\n\nSmall businesses are the heartbeat of their neighborhoods\, creating jobs\, relationships\, and shared impact. Reserve your spot and join us for a morning of inspiration\, connection\, and community-driven growth.
X-ALT-DESC;FMTTYPE=text/html:<div data-testid="text-content">\n<div>\n<p>Rooted in Community: Connect with women entrepreneurs over breakfast\, share goals\, and gain fresh motivation to grow your business</p>\n</div>\n</div>\n\n<div data-testid="text-content">\n<div>\n<p>Your business doesn&rsquo\;t grow in isolation. Connect with women entrepreneurs over breakfast and explore how small businesses strengthen&mdash\;and are strengthened by&mdash\;the communities they serve.</p>\n\n<p>This energizing morning meetup invites you to reflect on your role within your local ecosystem\, discover community resources available to support your business\, and explore opportunities for collaboration that help everyone grow.</p>\n\n<p>Event Highlights:</p>\n\n<ul>\n	<li>Enjoy a light breakfast and coffee while connecting with women business owners rooted in their communities</li>\n	<li>Learn how community partnerships and local resources can support your business goals</li>\n	<li>Share ideas and opportunities for collaboration and collective growth</li>\n	<li>Discover how partnerships with community organizations can connect your business to community-based support</li>\n</ul>\n\n<p>Small businesses are the heartbeat of their neighborhoods\, creating jobs\, relationships\, and shared impact.&nbsp\;Reserve your spot and join us for a morning of inspiration\, connection\, and community-driven growth.</p>\n</div>\n</div>\n
LOCATION:Saturday Morning Vibes Cereal Bar 3539 Reading Road #suite 101 Cincinnati\, OH 45229
UID:e.818.22058
SEQUENCE:3
DTSTAMP:20260425T175612Z
URL:http://business.hccusa.us/events/details/power-breakfast-with-the-wbc-22058
END:VEVENT

END:VCALENDAR
