BEGIN:VCALENDAR
VERSION:2.0
PRODID:-//ChamberMaster//Event Calendar 2.0//EN
METHOD:PUBLISH
X-PUBLISHED-TTL:P3D
REFRESH-INTERVAL:P3D
CALSCALE:GREGORIAN
BEGIN:VEVENT
DTSTART:20260311T130000Z
DTEND:20260311T163000Z
X-MICROSOFT-CDO-ALLDAYEVENT:FALSE
SUMMARY:(WE) Empower Summit: The Future is HER
DESCRIPTION:A half-day summit for women entrepreneurs/professionals focused on the future of business\, making connections\, and planning for growth.\n\n\n\n\n\nBuilding a business that lasts means thinking ahead\, staying flexible\, and being ready for what's next. The 4th Annual (WE) EMPOWER Summit brings together women entrepreneurs\, professionals\, and allies for a powerful day focused on future-proofing your business and planning for long-term growth.\n\nEvent highlights include\n\n\n	Inspiring conversations around innovation\, leadership\, and advocacy\n	Opportunities to connect\, network\, and build meaningful relationships with women business owners and supporters\n	Handcrafted coffee drinks from Inez Coffee Co.\, a local woman-owned business\, served at a mobile coffee bar\n	Breakfast and all-day snacks to keep you energized and engaged\n\n\nWorkshops\n\n\n	Using AI to Build Capacity and Stay Competitive\n	Sales\, Pricing\, and Proven Strategies for Sustainable Growth\n	Buying & Selling Businesses as a Growth and Exit Strategy\n	Diversifying Funding Strategies for Long-Term Growth\n	The Future is HER! Women Leading the Next Era of Economic Growth panel discussion\n\n\nIf you're ready to invest in your business and prepare for the future with confidence\, this is an event you won't want to miss. Save your spot at the (WE) EMPOWER Summit and be part of a community shaping what's next for women-led businesses.
X-ALT-DESC;FMTTYPE=text/html:<div data-testid="text-content">\n<div>\n<p>A half-day summit for women entrepreneurs/professionals focused on the future of business\, making connections\, and planning for growth.</p>\n</div>\n</div>\n\n<div data-testid="text-content">\n<div>\n<p>Building a business that lasts means thinking ahead\, staying flexible\, and being ready for what&rsquo\;s next. The 4th Annual (WE) EMPOWER Summit brings together women entrepreneurs\, professionals\, and allies for a powerful day focused on future-proofing your business and planning for long-term growth.</p>\n\n<p>Event highlights include</p>\n\n<ul>\n	<li>Inspiring conversations around innovation\, leadership\, and advocacy</li>\n	<li>Opportunities to connect\, network\, and build meaningful relationships with women business owners and supporters</li>\n	<li>Handcrafted coffee drinks from&nbsp\;<a data-msys-clicktrack="0" href="https://inezcoffeeco.com/" rel="nofollow noopener noreferrer" target="_blank" title="https://inezcoffeeco.com/">Inez Coffee Co.</a>\, a local woman-owned business\, served at a mobile coffee bar</li>\n	<li>Breakfast and all-day snacks to keep you energized and engaged</li>\n</ul>\n\n<p>Workshops</p>\n\n<ul>\n	<li>Using AI to Build Capacity and Stay Competitive</li>\n	<li>Sales\, Pricing\, and Proven Strategies for Sustainable Growth</li>\n	<li>Buying &amp\; Selling Businesses as a Growth and Exit Strategy</li>\n	<li>Diversifying Funding Strategies for Long-Term Growth</li>\n	<li>The Future is&nbsp\;HER!&nbsp\;Women Leading the Next Era of Economic Growth panel discussion</li>\n</ul>\n\n<p>If you&rsquo\;re ready to invest in your business and prepare for the future with confidence\, this is an event you won&rsquo\;t want to miss. Save your spot at the (WE) EMPOWER Summit and be part of a community shaping what&rsquo\;s next for women-led businesses.</p>\n</div>\n</div>\n
LOCATION:Xavier University\, Smith Hall 1676 Dana Ave Cincinnati\, OH 45207
UID:e.818.22152
SEQUENCE:3
DTSTAMP:20260426T004347Z
URL:http://business.hccusa.us/events/details/we-empower-summit-the-future-is-her-22152
END:VEVENT

END:VCALENDAR
