BEGIN:VCALENDAR
VERSION:2.0
PRODID:-//ChamberMaster//Event Calendar 2.0//EN
METHOD:PUBLISH
X-PUBLISHED-TTL:P3D
REFRESH-INTERVAL:P3D
CALSCALE:GREGORIAN
BEGIN:VEVENT
DTSTART:20260224T170000Z
DTEND:20260224T183000Z
X-MICROSOFT-CDO-ALLDAYEVENT:FALSE
SUMMARY:Workers Compensation for Small Businesses
DESCRIPTION:What small business owners need to understand about their responsibilities and options under Ohio's workers' compensation program.\n\n\n\n\nMany small business owners are unsure when workers' compensation coverage is required\, how Ohio's system works\, or what happens if they don't comply. This workshop addresses confusion and misinformation by providing clear guidance directly from the Ohio Bureau of Workers' Compensation helping employers avoid penalties\, reduce risk\, and protect both their workers and their business.\n\nTraining Topics\n\n\n	Workers' comp requirements in Ohio\n	What workers' comp does and does not cover\n	Common misconceptions that cost businesses\n	How coverage protects your business\n\n\nJoin us to learn when workers' compensation insurance is required\, how to obtain and maintain your policy\, common misconceptions\, and how proper coverage protects both employees and the business from financial risk.
X-ALT-DESC;FMTTYPE=text/html:<div>\n<div>What small business owners need to understand about their responsibilities and options under Ohio&rsquo\;s workers&rsquo\; compensation program.</div>\n</div>\n\n<div>\n<div>\n<p>Many small business owners are unsure when workers&rsquo\; compensation coverage is required\, how Ohio&rsquo\;s system works\, or what happens if they don&rsquo\;t comply. This workshop addresses confusion and misinformation by providing clear guidance directly from the Ohio Bureau of Workers&rsquo\; Compensation&mdash\;helping employers avoid penalties\, reduce risk\, and protect both their workers and their business.</p>\n\n<p>Training Topics</p>\n\n<ul>\n	<li>Workers&rsquo\; comp requirements in Ohio</li>\n	<li>What workers&rsquo\; comp does and does not cover</li>\n	<li>Common misconceptions that cost businesses</li>\n	<li>How coverage protects your business</li>\n</ul>\n\n<p>Join us to learn when workers&rsquo\; compensation insurance is required\, how to obtain and maintain your policy\, common misconceptions\, and how proper coverage protects both employees and the business from financial risk.</p>\n</div>\n</div>\n
LOCATION:Online
UID:e.818.22131
SEQUENCE:3
DTSTAMP:20260425T173216Z
URL:http://business.hccusa.us/events/details/workers-compensation-for-small-businesses-22131
END:VEVENT

END:VCALENDAR
